BEGIN:VCALENDAR
VERSION:2.0
PRODID:-//Keepers Of The Shiawassee - ECPv6.15.20//NONSGML v1.0//EN
CALSCALE:GREGORIAN
METHOD:PUBLISH
X-ORIGINAL-URL:https://keepersoftheshiawassee.org
X-WR-CALDESC:Events for Keepers Of The Shiawassee
REFRESH-INTERVAL;VALUE=DURATION:PT1H
X-Robots-Tag:noindex
X-PUBLISHED-TTL:PT1H
BEGIN:VTIMEZONE
TZID:America/Detroit
BEGIN:DAYLIGHT
TZOFFSETFROM:-0500
TZOFFSETTO:-0400
TZNAME:EDT
DTSTART:20250309T070000
END:DAYLIGHT
BEGIN:STANDARD
TZOFFSETFROM:-0400
TZOFFSETTO:-0500
TZNAME:EST
DTSTART:20251102T060000
END:STANDARD
BEGIN:DAYLIGHT
TZOFFSETFROM:-0500
TZOFFSETTO:-0400
TZNAME:EDT
DTSTART:20260308T070000
END:DAYLIGHT
BEGIN:STANDARD
TZOFFSETFROM:-0400
TZOFFSETTO:-0500
TZNAME:EST
DTSTART:20261101T060000
END:STANDARD
BEGIN:DAYLIGHT
TZOFFSETFROM:-0500
TZOFFSETTO:-0400
TZNAME:EDT
DTSTART:20270314T070000
END:DAYLIGHT
BEGIN:STANDARD
TZOFFSETFROM:-0400
TZOFFSETTO:-0500
TZNAME:EST
DTSTART:20271107T060000
END:STANDARD
END:VTIMEZONE
BEGIN:VEVENT
DTSTART;TZID=America/Detroit:20260528T183000
DTEND;TZID=America/Detroit:20260528T203000
DTSTAMP:20260421T062501
CREATED:20260323T164734Z
LAST-MODIFIED:20260414T041404Z
UID:3934-1779993000-1780000200@keepersoftheshiawassee.org
SUMMARY:Moonlight Paddle - Seven Lakes State Park - May 28th
DESCRIPTION:Moonlight Paddle – Seven Lakes State Park \nYou will need lights for the back of your boat so you can be seen but does not blind the person/s behind you.Be ready to have your boat and gear out and your vehicle parked so we can be on the water by 6:30pm.Those who want to continue the evening after we return can join us at Red Devil Restaurant. Moonrise will be around 6:54pm. Sunset will be at 9:02pm. We should have a beautiful evening. \nAll trips require life jackets that fit and are properly fastened. You and your gear should not exceed the weight limit of your boat. Our river routes are scenic but may require navigating around fallen trees or portaging. \nTrips are subject to change depending on the weather or other unforseen circumstances. Look for details and updates on our websites. \nPaddle more\, worry less!!! \nContact the organizer for more info.Location URL: https://maps.app.goo.gl/F5V5oFgLkjeQCQb18Coordinates: (42.80945394344518\, -83.66599477347138) \n 
URL:https://keepersoftheshiawassee.org/calendar/moonlight-paddle-seven-lakes-state-park-may-28th/
CATEGORIES:Paddling
ATTACH;FMTTYPE=image/jpeg:https://keepersoftheshiawassee.org/wp-content/uploads/2022/08/EC29CBB2-E492-4C1D-8310-40D2F9263383-e1738855877894.jpeg
ORGANIZER;CN="Paddling Committee-Maggie Yerman":MAILTO:paddling@keepersoftheshiawassee.org
END:VEVENT
END:VCALENDAR