BEGIN:VCALENDAR
VERSION:2.0
PRODID:-//Keepers Of The Shiawassee - ECPv6.15.20//NONSGML v1.0//EN
CALSCALE:GREGORIAN
METHOD:PUBLISH
X-ORIGINAL-URL:https://keepersoftheshiawassee.org
X-WR-CALDESC:Events for Keepers Of The Shiawassee
REFRESH-INTERVAL;VALUE=DURATION:PT1H
X-Robots-Tag:noindex
X-PUBLISHED-TTL:PT1H
BEGIN:VTIMEZONE
TZID:America/Detroit
BEGIN:DAYLIGHT
TZOFFSETFROM:-0500
TZOFFSETTO:-0400
TZNAME:EDT
DTSTART:20250309T070000
END:DAYLIGHT
BEGIN:STANDARD
TZOFFSETFROM:-0400
TZOFFSETTO:-0500
TZNAME:EST
DTSTART:20251102T060000
END:STANDARD
BEGIN:DAYLIGHT
TZOFFSETFROM:-0500
TZOFFSETTO:-0400
TZNAME:EDT
DTSTART:20260308T070000
END:DAYLIGHT
BEGIN:STANDARD
TZOFFSETFROM:-0400
TZOFFSETTO:-0500
TZNAME:EST
DTSTART:20261101T060000
END:STANDARD
BEGIN:DAYLIGHT
TZOFFSETFROM:-0500
TZOFFSETTO:-0400
TZNAME:EDT
DTSTART:20270314T070000
END:DAYLIGHT
BEGIN:STANDARD
TZOFFSETFROM:-0400
TZOFFSETTO:-0500
TZNAME:EST
DTSTART:20271107T060000
END:STANDARD
END:VTIMEZONE
BEGIN:VEVENT
DTSTART;TZID=America/Detroit:20260613T100000
DTEND;TZID=America/Detroit:20260613T200000
DTSTAMP:20260421T044425
CREATED:20260311T171706Z
LAST-MODIFIED:20260414T041357Z
UID:4602-1781344800-1781380800@keepersoftheshiawassee.org
SUMMARY:LAFF Pathways Paddle and Pedal- Downtown Linden\, MI - June 13th
DESCRIPTION:LAFF Pathways Paddle and Pedal Festival https://www.laffpathways.com/paddle-and-pedalat Linden Mill Pond \nRegister on line at https://runsignup.com/Race/Register/?raceId=129698&eventId=1126766 $25 \nThis is not a Keepers of the Shiawassee Event. \n 
URL:https://keepersoftheshiawassee.org/calendar/llaff-pathways-paddle-and-pedal/
LOCATION:Linden Mill Pond Launch\, 304 Tickner Street\, Linden\, MI\, 48451\, United States
CATEGORIES:Event,Paddling
ATTACH;FMTTYPE=image/webp:https://keepersoftheshiawassee.org/wp-content/uploads/2026/03/EventHeader-Paddle_Pedal-LAFF-2026-1920w.jpg.webp
END:VEVENT
END:VCALENDAR